BEGIN:VCALENDAR
VERSION:2.0
PRODID:-//wp-events-plugin.com//7.2.3.1//EN
TZID:Europe/Berlin
X-WR-TIMEZONE:Europe/Berlin
BEGIN:VEVENT
UID:161@gaertnerei-heider.de
DTSTART;TZID=Europe/Berlin:20200617T150000
DTEND;TZID=Europe/Berlin:20200617T180000
DTSTAMP:20200430T083850Z
URL:https://www.gaertnerei-heider.de/events/wochenmarkt-wehringen-findet-v
 orerst-statt-11/
SUMMARY:Wochenmarkt Wehringen - FINDET VORERST STATT
DESCRIPTION:https://www.wehringen.de/einrichtungen/wehringer-wochenmarkt/\n
 \n&nbsp\;\n\n&nbsp\;\n\n&nbsp\;
CATEGORIES:Wochenmarkt
LOCATION:Wochenmarkt Wehringen\, Nördliche Hauptstraße 18\, Wehringen\, B
 ayern\, 86517\, Deutschland
GEO:48.248066;10.802913
X-APPLE-STRUCTURED-LOCATION;VALUE=URI;X-ADDRESS=Nördliche Hauptstraße 18\
 , Wehringen\, Bayern\, 86517\, Deutschland;X-APPLE-RADIUS=100;X-TITLE=Woch
 enmarkt Wehringen:geo:48.248066,10.802913
END:VEVENT
BEGIN:VTIMEZONE
TZID:Europe/Berlin
X-LIC-LOCATION:Europe/Berlin
BEGIN:DAYLIGHT
DTSTART:20200329T030000
TZOFFSETFROM:+0100
TZOFFSETTO:+0200
TZNAME:CEST
END:DAYLIGHT
END:VTIMEZONE
END:VCALENDAR