BEGIN:VCALENDAR
VERSION:2.0
PRODID:-//wp-events-plugin.com//7.2.3.1//EN
TZID:Europe/Berlin
X-WR-TIMEZONE:Europe/Berlin
BEGIN:VEVENT
UID:534@gaertnerei-heider.de
DTSTART;TZID=Europe/Berlin:20220422T080000
DTEND;TZID=Europe/Berlin:20220422T130000
DTSTAMP:20220224T120140Z
URL:https://www.gaertnerei-heider.de/events/wochenmarkt-mering-25/
SUMMARY:Wochenmarkt Mering
DESCRIPTION:
CATEGORIES:Wochenmarkt
LOCATION:Wochenmarkt Mering\, Marktplatz 1\, Mering\, Bayern\, 86415\, Deut
 schland
GEO:48.2677405;10.986993299999995
X-APPLE-STRUCTURED-LOCATION;VALUE=URI;X-ADDRESS=Marktplatz 1\, Mering\, Bay
 ern\, 86415\, Deutschland;X-APPLE-RADIUS=100;X-TITLE=Wochenmarkt Mering:ge
 o:48.2677405,10.986993299999995
END:VEVENT
BEGIN:VTIMEZONE
TZID:Europe/Berlin
X-LIC-LOCATION:Europe/Berlin
BEGIN:DAYLIGHT
DTSTART:20220327T030000
TZOFFSETFROM:+0100
TZOFFSETTO:+0200
TZNAME:CEST
END:DAYLIGHT
END:VTIMEZONE
END:VCALENDAR