BEGIN:VCALENDAR
VERSION:2.0
PRODID:-//wp-events-plugin.com//7.2.3.1//EN
TZID:Europe/Berlin
X-WR-TIMEZONE:Europe/Berlin
BEGIN:VEVENT
UID:467@gaertnerei-heider.de
DTSTART;TZID=Europe/Berlin:20200911T080000
DTEND;TZID=Europe/Berlin:20200911T130000
DTSTAMP:20210316T130436Z
URL:https://www.gaertnerei-heider.de/events/wochenmarkt-mering-2020-09-11/
SUMMARY:Wochenmarkt Mering
DESCRIPTION:jeden Freitag
ATTACH;FMTTYPE=image/jpeg:https://www.gaertnerei-heider.de/wp-content/uplo
 ads/2018/05/produce-07.jpg
CATEGORIES:Wochenmarkt
LOCATION:Mering\, Marktplatz\, Mering\, Bayern\, Deutschland
GEO:48.2678239;10.98672149999993
X-APPLE-STRUCTURED-LOCATION;VALUE=URI;X-ADDRESS=Marktplatz\, Mering\, Bayer
 n\, Deutschland;X-APPLE-RADIUS=100;X-TITLE=Mering:geo:48.2678239,10.986721
 49999993
END:VEVENT
BEGIN:VTIMEZONE
TZID:Europe/Berlin
X-LIC-LOCATION:Europe/Berlin
BEGIN:DAYLIGHT
DTSTART:20200329T030000
TZOFFSETFROM:+0100
TZOFFSETTO:+0200
TZNAME:CEST
END:DAYLIGHT
END:VTIMEZONE
END:VCALENDAR