BEGIN:VCALENDAR
VERSION:2.0
PRODID:-//wp-events-plugin.com//7.2.3.1//EN
TZID:Europe/Berlin
X-WR-TIMEZONE:Europe/Berlin
BEGIN:VEVENT
UID:586@gaertnerei-heider.de
DTSTART;TZID=Europe/Berlin:20251106T110000
DTEND;TZID=Europe/Berlin:20251109T200000
DTSTAMP:20251104T112424Z
URL:https://www.gaertnerei-heider.de/events/winterlust-schloesser-schleiss
 heim/
SUMMARY:Winterlust Schlösser Schleißheim
DESCRIPTION:D-SchlösserSchleißheim - Gartenlust
ATTACH;FMTTYPE=image/jpeg:https://www.gaertnerei-heider.de/wp-content/uplo
 ads/2025/11/WhatsApp-Image-2025-10-03-at-13.23.48_50ea5876.jpg
LOCATION:Gartenlust Schloß Schleißheim\, Effnerstraße\, Oberschleißheim
 \, Bayern\, 85764\, Deutschland
GEO:48.247841;11.557525
X-APPLE-STRUCTURED-LOCATION;VALUE=URI;X-ADDRESS=Effnerstraße\, Oberschlei
 ßheim\, Bayern\, 85764\, Deutschland;X-APPLE-RADIUS=100;X-TITLE=Gartenlus
 t Schloß Schleißheim:geo:48.247841,11.557525
END:VEVENT
BEGIN:VTIMEZONE
TZID:Europe/Berlin
X-LIC-LOCATION:Europe/Berlin
BEGIN:STANDARD
DTSTART:20251026T020000
TZOFFSETFROM:+0200
TZOFFSETTO:+0100
TZNAME:CET
END:STANDARD
END:VTIMEZONE
END:VCALENDAR