BEGIN:VCALENDAR
VERSION:2.0
PRODID:-//wp-events-plugin.com//7.2.3.1//EN
TZID:Europe/Berlin
X-WR-TIMEZONE:Europe/Berlin
BEGIN:VEVENT
UID:541@gaertnerei-heider.de
DTSTART;TZID=Europe/Berlin:20220603T100000
DTEND;TZID=Europe/Berlin:20220606T180000
DTSTAMP:20220531T071220Z
URL:https://www.gaertnerei-heider.de/events/toelzer-rosentage-3/
SUMMARY:Tölzer Rosentage
DESCRIPTION:Tölzer Rosentage
LOCATION:Tölzer Rosentage Bad Tölz\, Max-Höfler-Platz\, 83646 Bad Tölz\
 , Bayern\, 83646\, Deutschland
GEO:47.759538;11.552239
X-APPLE-STRUCTURED-LOCATION;VALUE=URI;X-ADDRESS=Max-Höfler-Platz\, 83646 B
 ad Tölz\, Bayern\, 83646\, Deutschland;X-APPLE-RADIUS=100;X-TITLE=Tölzer
  Rosentage Bad Tölz:geo:47.759538,11.552239
END:VEVENT
BEGIN:VTIMEZONE
TZID:Europe/Berlin
X-LIC-LOCATION:Europe/Berlin
BEGIN:DAYLIGHT
DTSTART:20220327T030000
TZOFFSETFROM:+0100
TZOFFSETTO:+0200
TZNAME:CEST
END:DAYLIGHT
END:VTIMEZONE
END:VCALENDAR