BEGIN:VCALENDAR
VERSION:2.0
PRODID:-//wp-events-plugin.com//7.2.3.1//EN
TZID:Europe/Berlin
X-WR-TIMEZONE:Europe/Berlin
BEGIN:VEVENT
UID:129@gaertnerei-heider.de
DTSTART;TZID=Europe/Berlin:20200529T100000
DTEND;TZID=Europe/Berlin:20200601T180000
DTSTAMP:20200423T091915Z
URL:https://www.gaertnerei-heider.de/events/toelzer-rosentage-2/
SUMMARY:ENTFÄLLT - Tölzer Rosentage - ENTFÄLLT
DESCRIPTION:https://www.rosentage.de/\n\n&nbsp\;
CATEGORIES:Allgemein
LOCATION:Tölzer Rosentage\, Franziskanergarten\, Bad Tölz\, Bayern\, 8364
 6\, Deutschland
GEO:48.109453;11.670819
X-APPLE-STRUCTURED-LOCATION;VALUE=URI;X-ADDRESS=Franziskanergarten\, Bad T
 ölz\, Bayern\, 83646\, Deutschland;X-APPLE-RADIUS=100;X-TITLE=Tölzer Ros
 entage:geo:48.109453,11.670819
END:VEVENT
BEGIN:VTIMEZONE
TZID:Europe/Berlin
X-LIC-LOCATION:Europe/Berlin
BEGIN:DAYLIGHT
DTSTART:20200329T030000
TZOFFSETFROM:+0100
TZOFFSETTO:+0200
TZNAME:CEST
END:DAYLIGHT
END:VTIMEZONE
END:VCALENDAR