BEGIN:VCALENDAR
VERSION:2.0
PRODID:-//wp-events-plugin.com//7.2.3.1//EN
TZID:Europe/Berlin
X-WR-TIMEZONE:Europe/Berlin
BEGIN:VEVENT
UID:585@gaertnerei-heider.de
DTSTART;TZID=Europe/Berlin;VALUE=DATE:20250614
DTEND;TZID=Europe/Berlin;VALUE=DATE:20250616
DTSTAMP:20250227T091038Z
URL:https://www.gaertnerei-heider.de/events/steingadener-bluetentage-3/
SUMMARY:Steingadener Blütentage
DESCRIPTION:Blütentage Steingaden: Blütentage Steingaden
CATEGORIES:Allgemein
LOCATION:Steingadener Blütentage\, Fohlenhof\, Steingaden\, Bayern\, 86989
 \, Deutschland
GEO:47.7022855;10.859038800000008
X-APPLE-STRUCTURED-LOCATION;VALUE=URI;X-ADDRESS=Fohlenhof\, Steingaden\, Ba
 yern\, 86989\, Deutschland;X-APPLE-RADIUS=100;X-TITLE=Steingadener Blüten
 tage:geo:47.7022855,10.859038800000008
END:VEVENT
BEGIN:VTIMEZONE
TZID:Europe/Berlin
X-LIC-LOCATION:Europe/Berlin
BEGIN:DAYLIGHT
DTSTART:20250330T030000
TZOFFSETFROM:+0100
TZOFFSETTO:+0200
TZNAME:CEST
END:DAYLIGHT
END:VTIMEZONE
END:VCALENDAR