BEGIN:VCALENDAR
VERSION:2.0
PRODID:-//wp-events-plugin.com//7.2.3.1//EN
TZID:Europe/Berlin
X-WR-TIMEZONE:Europe/Berlin
BEGIN:VEVENT
UID:563@gaertnerei-heider.de
DTSTART;TZID=Europe/Berlin;VALUE=DATE:20230812
DTEND;TZID=Europe/Berlin;VALUE=DATE:20230816
DTSTAMP:20230725T085139Z
URL:https://www.gaertnerei-heider.de/events/schlossmarkt-mediterrano-sandi
 zell/
SUMMARY:Schlossmarkt Mediterrano Sandizell
DESCRIPTION:www.mediterrano-sandizell.de
CATEGORIES:Allgemein
LOCATION:Schlossmarkt Mediterrano Sandizell\, Schloßstr. 4\, Schrobenhause
 n\, 86529\, Deutschland
GEO:48.583152;11.175439
X-APPLE-STRUCTURED-LOCATION;VALUE=URI;X-ADDRESS=Schloßstr. 4\, Schrobenhau
 sen\, 86529\, Deutschland;X-APPLE-RADIUS=100;X-TITLE=Schlossmarkt Mediterr
 ano Sandizell:geo:48.583152,11.175439
END:VEVENT
BEGIN:VTIMEZONE
TZID:Europe/Berlin
X-LIC-LOCATION:Europe/Berlin
BEGIN:DAYLIGHT
DTSTART:20230326T030000
TZOFFSETFROM:+0100
TZOFFSETTO:+0200
TZNAME:CEST
END:DAYLIGHT
END:VTIMEZONE
END:VCALENDAR