BEGIN:VCALENDAR
VERSION:2.0
PRODID:-//wp-events-plugin.com//7.2.3.1//EN
TZID:Europe/Berlin
X-WR-TIMEZONE:Europe/Berlin
BEGIN:VEVENT
UID:569@gaertnerei-heider.de
DTSTART;TZID=Europe/Berlin:20240412T100000
DTEND;TZID=Europe/Berlin:20240414T180000
DTSTAMP:20240321T103118Z
URL:https://www.gaertnerei-heider.de/events/schloss-duerrenmungenau-garten
 lust/
SUMMARY:Schloß Dürrenmungenau Gartenlust
DESCRIPTION:Gutsverwaltung Schloss Dürrenmungenau - Gartenlust (schlossdue
 rrenmungenau.de)
CATEGORIES:Allgemein
LOCATION:Gartenlust Schloß Dürrenmungenau\, Schloßallee 1\, Abenberg\, B
 ayern\, 91183\, Deutschland
GEO:49.233743;10.915061
X-APPLE-STRUCTURED-LOCATION;VALUE=URI;X-ADDRESS=Schloßallee 1\, Abenberg\,
  Bayern\, 91183\, Deutschland;X-APPLE-RADIUS=100;X-TITLE=Gartenlust Schlo
 ß Dürrenmungenau:geo:49.233743,10.915061
END:VEVENT
BEGIN:VTIMEZONE
TZID:Europe/Berlin
X-LIC-LOCATION:Europe/Berlin
BEGIN:DAYLIGHT
DTSTART:20240331T030000
TZOFFSETFROM:+0100
TZOFFSETTO:+0200
TZNAME:CEST
END:DAYLIGHT
END:VTIMEZONE
END:VCALENDAR