BEGIN:VCALENDAR
VERSION:2.0
PRODID:-//wp-events-plugin.com//7.2.3.1//EN
TZID:Europe/Berlin
X-WR-TIMEZONE:Europe/Berlin
BEGIN:VEVENT
UID:570@gaertnerei-heider.de
DTSTART;TZID=Europe/Berlin:20240418T100000
DTEND;TZID=Europe/Berlin:20240421T180000
DTSTAMP:20240321T103556Z
URL:https://www.gaertnerei-heider.de/events/schloesser-schleissheim-garten
 lust/
SUMMARY:Schlösser Schleißheim Gartenlust
DESCRIPTION:Schleißheimer Schlösser - Gartenlust
CATEGORIES:Allgemein
LOCATION:Gartenlust Schloß Schleißheim\, Effnerstraße\, Oberschleißheim
 \, Bayern\, 85764\, Deutschland
GEO:48.247841;11.557525
X-APPLE-STRUCTURED-LOCATION;VALUE=URI;X-ADDRESS=Effnerstraße\, Oberschlei
 ßheim\, Bayern\, 85764\, Deutschland;X-APPLE-RADIUS=100;X-TITLE=Gartenlus
 t Schloß Schleißheim:geo:48.247841,11.557525
END:VEVENT
BEGIN:VTIMEZONE
TZID:Europe/Berlin
X-LIC-LOCATION:Europe/Berlin
BEGIN:DAYLIGHT
DTSTART:20240331T030000
TZOFFSETFROM:+0100
TZOFFSETTO:+0200
TZNAME:CEST
END:DAYLIGHT
END:VTIMEZONE
END:VCALENDAR