BEGIN:VCALENDAR
VERSION:2.0
PRODID:-//wp-events-plugin.com//7.2.3.1//EN
TZID:Europe/Berlin
X-WR-TIMEZONE:Europe/Berlin
BEGIN:VEVENT
UID:554@gaertnerei-heider.de
DTSTART;TZID=Europe/Berlin:20230318T100000
DTEND;TZID=Europe/Berlin:20230318T140000
DTSTAMP:20230316T102951Z
URL:https://www.gaertnerei-heider.de/events/pflanzen-und-saatgutboerse-die
 dorf/
SUMMARY:Pflanzen- und Saatgutbörse Diedorf
DESCRIPTION:www.umweltzentrum-schmuttertal.de\n\n&nbsp\;
CATEGORIES:Allgemein
LOCATION:Pflanzen- und Saatgutbörse Diedorf\, Augsburger Str. 24\, Diedorf
 \, Bayern\, 86420\, Deutschland
GEO:48.371343;10.785265
X-APPLE-STRUCTURED-LOCATION;VALUE=URI;X-ADDRESS=Augsburger Str. 24\, Diedor
 f\, Bayern\, 86420\, Deutschland;X-APPLE-RADIUS=100;X-TITLE=Pflanzen- und 
 Saatgutbörse Diedorf:geo:48.371343,10.785265
END:VEVENT
BEGIN:VTIMEZONE
TZID:Europe/Berlin
X-LIC-LOCATION:Europe/Berlin
BEGIN:STANDARD
DTSTART:20221030T020000
TZOFFSETFROM:+0200
TZOFFSETTO:+0100
TZNAME:CET
END:STANDARD
END:VTIMEZONE
END:VCALENDAR