BEGIN:VCALENDAR
VERSION:2.0
PRODID:-//wp-events-plugin.com//7.2.3.1//EN
TZID:Europe/Berlin
X-WR-TIMEZONE:Europe/Berlin
BEGIN:VEVENT
UID:539@gaertnerei-heider.de
DTSTART;TZID=Europe/Berlin:20220319T100000
DTEND;TZID=Europe/Berlin:20220319T140000
DTSTAMP:20220224T122249Z
URL:https://www.gaertnerei-heider.de/events/pflanzen-und-saatgutboerse-am-
 umweltzentrum-schmuttertal/
SUMMARY:Pflanzen- und Saatgutbörse am Umweltzentrum Schmuttertal
DESCRIPTION:6. Pflanzen- und Saatgutbörse am Umweltzentrum Schmuttertal - 
 Diedorf - myheimat.de
CATEGORIES:Allgemein
LOCATION:Umweltzentrum Schmuttertal\, Augsburger Str. 24\, Diedorf\, Bayern
 \, 86420\, Deutschland
GEO:48.371341;10.785269
X-APPLE-STRUCTURED-LOCATION;VALUE=URI;X-ADDRESS=Augsburger Str. 24\, Diedor
 f\, Bayern\, 86420\, Deutschland;X-APPLE-RADIUS=100;X-TITLE=Umweltzentrum 
 Schmuttertal:geo:48.371341,10.785269
END:VEVENT
BEGIN:VTIMEZONE
TZID:Europe/Berlin
X-LIC-LOCATION:Europe/Berlin
BEGIN:STANDARD
DTSTART:20211031T020000
TZOFFSETFROM:+0200
TZOFFSETTO:+0100
TZNAME:CET
END:STANDARD
END:VTIMEZONE
END:VCALENDAR