BEGIN:VCALENDAR
VERSION:2.0
PRODID:-//wp-events-plugin.com//7.2.3.1//EN
TZID:Europe/Berlin
X-WR-TIMEZONE:Europe/Berlin
BEGIN:VEVENT
UID:572@gaertnerei-heider.de
DTSTART;TZID=Europe/Berlin:20240501T100000
DTEND;TZID=Europe/Berlin:20240501T180000
DTSTAMP:20240321T104356Z
URL:https://www.gaertnerei-heider.de/events/maimarkt-diedorf/
SUMMARY:Maimarkt Diedorf
DESCRIPTION:
CATEGORIES:Allgemein
LOCATION:Maimarkt Diedorf\, Lindenstr. 11\, Diedorf\, Bayern\, 86420\, Deut
 schland
GEO:48.355779;10.784089
X-APPLE-STRUCTURED-LOCATION;VALUE=URI;X-ADDRESS=Lindenstr. 11\, Diedorf\, B
 ayern\, 86420\, Deutschland;X-APPLE-RADIUS=100;X-TITLE=Maimarkt Diedorf:ge
 o:48.355779,10.784089
END:VEVENT
BEGIN:VTIMEZONE
TZID:Europe/Berlin
X-LIC-LOCATION:Europe/Berlin
BEGIN:DAYLIGHT
DTSTART:20240331T030000
TZOFFSETFROM:+0100
TZOFFSETTO:+0200
TZNAME:CEST
END:DAYLIGHT
END:VTIMEZONE
END:VCALENDAR