BEGIN:VCALENDAR
VERSION:2.0
PRODID:-//wp-events-plugin.com//7.2.3.1//EN
TZID:Europe/Berlin
X-WR-TIMEZONE:Europe/Berlin
BEGIN:VEVENT
UID:133@gaertnerei-heider.de
DTSTART;TZID=Europe/Berlin:20200627T100000
DTEND;TZID=Europe/Berlin:20200628T180000
DTSTAMP:20200312T092828Z
URL:https://www.gaertnerei-heider.de/events/maerchenhafte-gartentage-schwa
 bmuenchen-2/
SUMMARY:Märchenhafte Gartentage Schwabmünchen
DESCRIPTION:www.maerchenhafte-gartentage.de\n\n&nbsp\;
CATEGORIES:Allgemein
LOCATION:Märchenhafte Gartentage Schwabmünchen\, Luitpoldpark\, Schwabmü
 nchen\, Bayern\, 86830\, Deutschland
GEO:48.1831379;10.75050699999997
X-APPLE-STRUCTURED-LOCATION;VALUE=URI;X-ADDRESS=Luitpoldpark\, Schwabmünch
 en\, Bayern\, 86830\, Deutschland;X-APPLE-RADIUS=100;X-TITLE=Märchenhafte
  Gartentage Schwabmünchen:geo:48.1831379,10.75050699999997
END:VEVENT
BEGIN:VTIMEZONE
TZID:Europe/Berlin
X-LIC-LOCATION:Europe/Berlin
BEGIN:DAYLIGHT
DTSTART:20200329T030000
TZOFFSETFROM:+0100
TZOFFSETTO:+0200
TZNAME:CEST
END:DAYLIGHT
END:VTIMEZONE
END:VCALENDAR