BEGIN:VCALENDAR
VERSION:2.0
PRODID:-//wp-events-plugin.com//7.2.3.1//EN
TZID:Europe/Berlin
X-WR-TIMEZONE:Europe/Berlin
BEGIN:VEVENT
UID:536@gaertnerei-heider.de
DTSTART;TZID=Europe/Berlin;VALUE=DATE:20220429
DTEND;TZID=Europe/Berlin;VALUE=DATE:20220502
DTSTAMP:20220224T120730Z
URL:https://www.gaertnerei-heider.de/events/lebensraum-garten-2022-gut-mer
 genthau-jubilaeumsveranstaltung/
SUMMARY:Lebensraum Garten 2022 Gut Mergenthau Jubiläumsveranstaltung
DESCRIPTION:www.lebensraum-garten.de
LOCATION:Lebensraum Garten 2022\, Gut Mergenthau 1\, Kissing\, Bayern\, 864
 38\, Deutschland
GEO:48.31426;10.99445
X-APPLE-STRUCTURED-LOCATION;VALUE=URI;X-ADDRESS=Gut Mergenthau 1\, Kissing\
 , Bayern\, 86438\, Deutschland;X-APPLE-RADIUS=100;X-TITLE=Lebensraum Garte
 n 2022:geo:48.31426,10.99445
END:VEVENT
BEGIN:VTIMEZONE
TZID:Europe/Berlin
X-LIC-LOCATION:Europe/Berlin
BEGIN:DAYLIGHT
DTSTART:20220327T030000
TZOFFSETFROM:+0100
TZOFFSETTO:+0200
TZNAME:CEST
END:DAYLIGHT
END:VTIMEZONE
END:VCALENDAR