BEGIN:VCALENDAR
VERSION:2.0
PRODID:-//wp-events-plugin.com//7.2.3.1//EN
TZID:Europe/Berlin
X-WR-TIMEZONE:Europe/Berlin
BEGIN:VEVENT
UID:123@gaertnerei-heider.de
DTSTART;TZID=Europe/Berlin:20200328T100000
DTEND;TZID=Europe/Berlin:20200329T180000
DTSTAMP:20200312T093002Z
URL:https://www.gaertnerei-heider.de/events/kunstwerk-koenigsbrunn-2/
SUMMARY:ENTFÄLLT - Kunstwerk Königsbrunn - ENTFÄLLT
DESCRIPTION:https://www.stoffige-ideen.de/kunstwerk/\n\n&nbsp\;\n\n&nbsp\;
CATEGORIES:Allgemein
LOCATION:Kunstwerk Königsbrunn\, St.-Johannes-Str. \, Königsbrunn\, Bayer
 n\, 86343\, Deutschland
GEO:48.2652324;10.89591059999998
X-APPLE-STRUCTURED-LOCATION;VALUE=URI;X-ADDRESS=St.-Johannes-Str. \, König
 sbrunn\, Bayern\, 86343\, Deutschland;X-APPLE-RADIUS=100;X-TITLE=Kunstwerk
  Königsbrunn:geo:48.2652324,10.89591059999998
END:VEVENT
BEGIN:VTIMEZONE
TZID:Europe/Berlin
X-LIC-LOCATION:Europe/Berlin
BEGIN:STANDARD
DTSTART:20191027T020000
TZOFFSETFROM:+0200
TZOFFSETTO:+0100
TZNAME:CET
END:STANDARD
BEGIN:DAYLIGHT
DTSTART:20200329T030000
TZOFFSETFROM:+0100
TZOFFSETTO:+0200
TZNAME:CEST
END:DAYLIGHT
END:VTIMEZONE
END:VCALENDAR