BEGIN:VCALENDAR
VERSION:2.0
PRODID:-//wp-events-plugin.com//7.2.3.1//EN
TZID:Europe/Berlin
X-WR-TIMEZONE:Europe/Berlin
BEGIN:VEVENT
UID:131@gaertnerei-heider.de
DTSTART;TZID=Europe/Berlin:20200718T120000
DTEND;TZID=Europe/Berlin:20200719T180000
DTSTAMP:20200616T074531Z
URL:https://www.gaertnerei-heider.de/events/kunsthandwerkermarkt-waal-2/
SUMMARY:ENTFÄLLT - Kunsthandwerkermarkt Waal
DESCRIPTION:https://www.waal.de/freizeit-tourismus/kunsthandwerkermarkt/\n\
 n&nbsp\;
CATEGORIES:Allgemein
LOCATION:Kunsthandwerkermarkt Waal\, Marktplatz 1\, Waal\, Bayern\, 86875\,
  Deutschland
GEO:47.9955913;10.776383399999986
X-APPLE-STRUCTURED-LOCATION;VALUE=URI;X-ADDRESS=Marktplatz 1\, Waal\, Bayer
 n\, 86875\, Deutschland;X-APPLE-RADIUS=100;X-TITLE=Kunsthandwerkermarkt Wa
 al:geo:47.9955913,10.776383399999986
END:VEVENT
BEGIN:VTIMEZONE
TZID:Europe/Berlin
X-LIC-LOCATION:Europe/Berlin
BEGIN:DAYLIGHT
DTSTART:20200329T030000
TZOFFSETFROM:+0100
TZOFFSETTO:+0200
TZNAME:CEST
END:DAYLIGHT
END:VTIMEZONE
END:VCALENDAR