BEGIN:VCALENDAR
VERSION:2.0
PRODID:-//wp-events-plugin.com//7.2.3.1//EN
TZID:Europe/Berlin
X-WR-TIMEZONE:Europe/Berlin
BEGIN:VEVENT
UID:132@gaertnerei-heider.de
DTSTART;TZID=Europe/Berlin:20200926T100000
DTEND;TZID=Europe/Berlin:20200927T180000
DTSTAMP:20200908T085005Z
URL:https://www.gaertnerei-heider.de/events/kunst-und-kuerbis/
SUMMARY:Kunst und Kürbis  -ENTFÄLLT-
DESCRIPTION:https://hofgut-sickertshofen.de/kunst-kurbis-2020/\n\n&nbsp\;
CATEGORIES:Allgemein
LOCATION:Kunst und Kürbis\, Hofgut Sickertshofen\, Schwabhausen\, Bayern\,
  85247\, Deutschland
GEO:48.299292;11.348925
X-APPLE-STRUCTURED-LOCATION;VALUE=URI;X-ADDRESS=Hofgut Sickertshofen\, Schw
 abhausen\, Bayern\, 85247\, Deutschland;X-APPLE-RADIUS=100;X-TITLE=Kunst u
 nd Kürbis:geo:48.299292,11.348925
END:VEVENT
BEGIN:VTIMEZONE
TZID:Europe/Berlin
X-LIC-LOCATION:Europe/Berlin
BEGIN:DAYLIGHT
DTSTART:20200329T030000
TZOFFSETFROM:+0100
TZOFFSETTO:+0200
TZNAME:CEST
END:DAYLIGHT
END:VTIMEZONE
END:VCALENDAR