BEGIN:VCALENDAR
VERSION:2.0
PRODID:-//wp-events-plugin.com//7.2.3.1//EN
TZID:Europe/Berlin
X-WR-TIMEZONE:Europe/Berlin
BEGIN:VEVENT
UID:544@gaertnerei-heider.de
DTSTART;TZID=Europe/Berlin;VALUE=DATE:20220923
DTEND;TZID=Europe/Berlin;VALUE=DATE:20220926
DTSTAMP:20220919T101652Z
URL:https://www.gaertnerei-heider.de/events/kunst-kuerbis-2022/
SUMMARY:Kunst & Kürbis 2022
DESCRIPTION:www.hofgut-sickertshofen.de
CATEGORIES:Allgemein
LOCATION:Kunst & Kürbis Hofgut Sickertshofen\, Hofgut Sickertshofen\, Schw
 abhausen\, Bayern\, 85247\, Deutschland
GEO:48.2992924;11.348924799999963
X-APPLE-STRUCTURED-LOCATION;VALUE=URI;X-ADDRESS=Hofgut Sickertshofen\, Schw
 abhausen\, Bayern\, 85247\, Deutschland;X-APPLE-RADIUS=100;X-TITLE=Kunst &
  Kürbis Hofgut Sickertshofen:geo:48.2992924,11.348924799999963
END:VEVENT
BEGIN:VTIMEZONE
TZID:Europe/Berlin
X-LIC-LOCATION:Europe/Berlin
BEGIN:DAYLIGHT
DTSTART:20220327T030000
TZOFFSETFROM:+0100
TZOFFSETTO:+0200
TZNAME:CEST
END:DAYLIGHT
END:VTIMEZONE
END:VCALENDAR