BEGIN:VCALENDAR
VERSION:2.0
PRODID:-//wp-events-plugin.com//7.2.3.1//EN
TZID:Europe/Berlin
X-WR-TIMEZONE:Europe/Berlin
BEGIN:VEVENT
UID:598@gaertnerei-heider.de
DTSTART;TZID=Europe/Berlin:20260925T000000
DTEND;TZID=Europe/Berlin:20260927T000000
DTSTAMP:20260310T115154Z
URL:https://www.gaertnerei-heider.de/events/kunst-kuerbis-2/
SUMMARY:Kunst & Kürbis
DESCRIPTION:Kunst und Kürbis Fest am Hofgut Sickertshofen
LOCATION:Hofgut Sickertshofen\, Sickertshofen 1\, Schwabhausen\, Bayern\, 8
 5247\, Deutschland
GEO:48.299283;11.348875
X-APPLE-STRUCTURED-LOCATION;VALUE=URI;X-ADDRESS=Sickertshofen 1\, Schwabhau
 sen\, Bayern\, 85247\, Deutschland;X-APPLE-RADIUS=100;X-TITLE=Hofgut Sicke
 rtshofen:geo:48.299283,11.348875
END:VEVENT
BEGIN:VTIMEZONE
TZID:Europe/Berlin
X-LIC-LOCATION:Europe/Berlin
BEGIN:DAYLIGHT
DTSTART:20260329T030000
TZOFFSETFROM:+0100
TZOFFSETTO:+0200
TZNAME:CEST
END:DAYLIGHT
END:VTIMEZONE
END:VCALENDAR