BEGIN:VCALENDAR
VERSION:2.0
PRODID:-//wp-events-plugin.com//7.2.3.1//EN
TZID:Europe/Berlin
X-WR-TIMEZONE:Europe/Berlin
BEGIN:VEVENT
UID:583@gaertnerei-heider.de
DTSTART;TZID=Europe/Berlin:20250601T100000
DTEND;TZID=Europe/Berlin:20250601T170000
DTSTAMP:20250227T090617Z
URL:https://www.gaertnerei-heider.de/events/kraeutertag-burtenbach/
SUMMARY:Kräutertag Burtenbach
DESCRIPTION:Kräutertag Burtenbach Schertlinpark - BUND Naturschutz in Baye
 rn e.V.
CATEGORIES:Allgemein
LOCATION:Kräutertag in Burtenbach\, Schertlinpark\, Burtenbach\, Bayern\, 
 89349\, Deutschland
GEO:48.3409538;10.451367000000005
X-APPLE-STRUCTURED-LOCATION;VALUE=URI;X-ADDRESS=Schertlinpark\, Burtenbach\
 , Bayern\, 89349\, Deutschland;X-APPLE-RADIUS=100;X-TITLE=Kräutertag in B
 urtenbach:geo:48.3409538,10.451367000000005
END:VEVENT
BEGIN:VTIMEZONE
TZID:Europe/Berlin
X-LIC-LOCATION:Europe/Berlin
BEGIN:DAYLIGHT
DTSTART:20250330T030000
TZOFFSETFROM:+0100
TZOFFSETTO:+0200
TZNAME:CEST
END:DAYLIGHT
END:VTIMEZONE
END:VCALENDAR