BEGIN:VCALENDAR
VERSION:2.0
PRODID:-//wp-events-plugin.com//7.2.3.1//EN
TZID:Europe/Berlin
X-WR-TIMEZONE:Europe/Berlin
BEGIN:VEVENT
UID:555@gaertnerei-heider.de
DTSTART;TZID=Europe/Berlin:20230319T100000
DTEND;TZID=Europe/Berlin:20230319T180000
DTSTAMP:20230316T103422Z
URL:https://www.gaertnerei-heider.de/events/koenigsmarkt-koenigsbrunn-4/
SUMMARY:Königsmarkt Königsbrunn
DESCRIPTION:Stadt Königsbrunn: Königsmarkt – Marktsonntag (koenigsbrunn
 .de)
CATEGORIES:Allgemein
LOCATION:Königsmarkt Königsbrunn\, Bgm-Wohlfarth-Straße\, Königsbrunn\,
  Bayern\, 86343\, Deutschland
GEO:48.2713239;10.888669800000002
X-APPLE-STRUCTURED-LOCATION;VALUE=URI;X-ADDRESS=Bgm-Wohlfarth-Straße\, Kö
 nigsbrunn\, Bayern\, 86343\, Deutschland;X-APPLE-RADIUS=100;X-TITLE=König
 smarkt Königsbrunn:geo:48.2713239,10.888669800000002
END:VEVENT
BEGIN:VTIMEZONE
TZID:Europe/Berlin
X-LIC-LOCATION:Europe/Berlin
BEGIN:STANDARD
DTSTART:20221030T020000
TZOFFSETFROM:+0200
TZOFFSETTO:+0100
TZNAME:CET
END:STANDARD
END:VTIMEZONE
END:VCALENDAR