BEGIN:VCALENDAR
VERSION:2.0
PRODID:-//wp-events-plugin.com//7.2.3.1//EN
TZID:Europe/Berlin
X-WR-TIMEZONE:Europe/Berlin
BEGIN:VEVENT
UID:546@gaertnerei-heider.de
DTSTART;TZID=Europe/Berlin:20221009T100000
DTEND;TZID=Europe/Berlin:20221009T180000
DTSTAMP:20220927T091302Z
URL:https://www.gaertnerei-heider.de/events/koenigsmarkt-koenigsbrunn-3/
SUMMARY:Königsmarkt Königsbrunn
DESCRIPTION:
CATEGORIES:Allgemein
LOCATION:Königsmarkt (Herbstmarkt) Königsbrunn\, Bürgermeister-Wohlfarth
 -Straße\, Königsbrunn\, Bayern\, 86343\, Deutschland
GEO:48.271322;10.888671
X-APPLE-STRUCTURED-LOCATION;VALUE=URI;X-ADDRESS=Bürgermeister-Wohlfarth-St
 raße\, Königsbrunn\, Bayern\, 86343\, Deutschland;X-APPLE-RADIUS=100;X-T
 ITLE=Königsmarkt (Herbstmarkt) Königsbrunn:geo:48.271322,10.888671
END:VEVENT
BEGIN:VTIMEZONE
TZID:Europe/Berlin
X-LIC-LOCATION:Europe/Berlin
BEGIN:DAYLIGHT
DTSTART:20220327T030000
TZOFFSETFROM:+0100
TZOFFSETTO:+0200
TZNAME:CEST
END:DAYLIGHT
END:VTIMEZONE
END:VCALENDAR