BEGIN:VCALENDAR
VERSION:2.0
PRODID:-//wp-events-plugin.com//7.2.3.1//EN
TZID:Europe/Berlin
X-WR-TIMEZONE:Europe/Berlin
BEGIN:VEVENT
UID:126@gaertnerei-heider.de
DTSTART;TZID=Europe/Berlin:20200426T100000
DTEND;TZID=Europe/Berlin:20200426T180000
DTSTAMP:20200421T074729Z
URL:https://www.gaertnerei-heider.de/events/koenigsmarkt-2/
SUMMARY:ENTFÄLLT - Königsmarkt - ENTFÄLLT
DESCRIPTION:https://www.koenigsbrunn.de/veranstaltungen/detail/veranstaltun
 g/2020-04-26/traditioneller-koenigsmarkt-marktsonntag-1716/va-action/show/
 va-controller/Event/\n\n&nbsp\;
CATEGORIES:Allgemein
LOCATION:Königsmarkt Königsbrunn\, Bgm-Wohlfarth-Straße\, Königsbrunn\,
  Bayern\, 86343\, Deutschland
GEO:48.2713239;10.888669800000002
X-APPLE-STRUCTURED-LOCATION;VALUE=URI;X-ADDRESS=Bgm-Wohlfarth-Straße\, Kö
 nigsbrunn\, Bayern\, 86343\, Deutschland;X-APPLE-RADIUS=100;X-TITLE=König
 smarkt Königsbrunn:geo:48.2713239,10.888669800000002
END:VEVENT
BEGIN:VTIMEZONE
TZID:Europe/Berlin
X-LIC-LOCATION:Europe/Berlin
BEGIN:DAYLIGHT
DTSTART:20200329T030000
TZOFFSETFROM:+0100
TZOFFSETTO:+0200
TZNAME:CEST
END:DAYLIGHT
END:VTIMEZONE
END:VCALENDAR