BEGIN:VCALENDAR
VERSION:2.0
PRODID:-//wp-events-plugin.com//7.2.3.1//EN
TZID:Europe/Berlin
X-WR-TIMEZONE:Europe/Berlin
BEGIN:VEVENT
UID:568@gaertnerei-heider.de
DTSTART;TZID=Europe/Berlin:20240330T110000
DTEND;TZID=Europe/Berlin:20240401T180000
DTSTAMP:20240321T102618Z
URL:https://www.gaertnerei-heider.de/events/kloster-lorch-gartenlust/
SUMMARY:Kloster Lorch - Gartenlust
DESCRIPTION:D-Kloster Lorch - Gartenlust\n\nwww.kloster-lorch.de
CATEGORIES:Allgemein
LOCATION:Gartenlust Kloster Lorch\, Auf dem Schäfersfeld\, Lorch\, Baden-W
 ürttemberg\, 73547\, Deutschland
GEO:48.801919;9.699992
X-APPLE-STRUCTURED-LOCATION;VALUE=URI;X-ADDRESS=Auf dem Schäfersfeld\, Lor
 ch\, Baden-Württemberg\, 73547\, Deutschland;X-APPLE-RADIUS=100;X-TITLE=G
 artenlust Kloster Lorch:geo:48.801919,9.699992
END:VEVENT
BEGIN:VTIMEZONE
TZID:Europe/Berlin
X-LIC-LOCATION:Europe/Berlin
BEGIN:STANDARD
DTSTART:20231029T020000
TZOFFSETFROM:+0200
TZOFFSETTO:+0100
TZNAME:CET
END:STANDARD
BEGIN:DAYLIGHT
DTSTART:20240331T030000
TZOFFSETFROM:+0100
TZOFFSETTO:+0200
TZNAME:CEST
END:DAYLIGHT
END:VTIMEZONE
END:VCALENDAR