BEGIN:VCALENDAR
VERSION:2.0
PRODID:-//wp-events-plugin.com//7.2.3.1//EN
TZID:Europe/Berlin
X-WR-TIMEZONE:Europe/Berlin
BEGIN:VEVENT
UID:130@gaertnerei-heider.de
DTSTART;TZID=Europe/Berlin:20200619T100000
DTEND;TZID=Europe/Berlin:20200621T180000
DTSTAMP:20200310T101647Z
URL:https://www.gaertnerei-heider.de/events/gartenlust-schloss-waal-2/
SUMMARY:Gartenlust Schloss Waal
DESCRIPTION:https://www.gartenlust.eu/Veranstaltungen/gartenlust-schloss-wa
 al-2020/\n\n&nbsp\;\n\n&nbsp\;
CATEGORIES:Allgemein
LOCATION:Gartenlust Schloss Waal\, Fürst-von-der-Leyen-Platz 1\, Waal\, Ba
 yern\, 86875\, Deutschland
GEO:47.992101;10.785621
X-APPLE-STRUCTURED-LOCATION;VALUE=URI;X-ADDRESS=Fürst-von-der-Leyen-Platz 
 1\, Waal\, Bayern\, 86875\, Deutschland;X-APPLE-RADIUS=100;X-TITLE=Gartenl
 ust Schloss Waal:geo:47.992101,10.785621
END:VEVENT
BEGIN:VTIMEZONE
TZID:Europe/Berlin
X-LIC-LOCATION:Europe/Berlin
BEGIN:DAYLIGHT
DTSTART:20200329T030000
TZOFFSETFROM:+0100
TZOFFSETTO:+0200
TZNAME:CEST
END:DAYLIGHT
END:VTIMEZONE
END:VCALENDAR