BEGIN:VCALENDAR
VERSION:2.0
PRODID:-//wp-events-plugin.com//7.2.3.1//EN
TZID:Europe/Berlin
X-WR-TIMEZONE:Europe/Berlin
BEGIN:VEVENT
UID:579@gaertnerei-heider.de
DTSTART;TZID=Europe/Berlin:20250419T100000
DTEND;TZID=Europe/Berlin:20250421T180000
DTSTAMP:20250227T085744Z
URL:https://www.gaertnerei-heider.de/events/gartenlust-schloesser-schleiss
 heim-2/
SUMMARY:GartenLust Schlösser Schleißheim
DESCRIPTION:D-Schlösser Schleißheim - Gartenlust
CATEGORIES:Allgemein
LOCATION:Gartenlust Schlösser Schleißheim\, Effnerstraße\, Oberschleißh
 eim\, Bayern\, 85764\, Deutschland
GEO:48.247841;11.557525
X-APPLE-STRUCTURED-LOCATION;VALUE=URI;X-ADDRESS=Effnerstraße\, Oberschlei
 ßheim\, Bayern\, 85764\, Deutschland;X-APPLE-RADIUS=100;X-TITLE=Gartenlus
 t Schlösser Schleißheim:geo:48.247841,11.557525
END:VEVENT
BEGIN:VTIMEZONE
TZID:Europe/Berlin
X-LIC-LOCATION:Europe/Berlin
BEGIN:DAYLIGHT
DTSTART:20250330T030000
TZOFFSETFROM:+0100
TZOFFSETTO:+0200
TZNAME:CEST
END:DAYLIGHT
END:VTIMEZONE
END:VCALENDAR