BEGIN:VCALENDAR
VERSION:2.0
PRODID:-//wp-events-plugin.com//7.2.3.1//EN
TZID:Europe/Berlin
X-WR-TIMEZONE:Europe/Berlin
BEGIN:VEVENT
UID:575@gaertnerei-heider.de
DTSTART;TZID=Europe/Berlin:20250328T100000
DTEND;TZID=Europe/Berlin:20250330T180000
DTSTAMP:20250227T084553Z
URL:https://www.gaertnerei-heider.de/events/gartenlust-kloster-lorch/
SUMMARY:GartenLust Kloster Lorch
DESCRIPTION:
CATEGORIES:Allgemein
LOCATION:Kloster Lorch\, Klosterstr. 2\, Lorch\, Bayern\, 73547\, Deutschla
 nd
GEO:48.799426;9.7049
X-APPLE-STRUCTURED-LOCATION;VALUE=URI;X-ADDRESS=Klosterstr. 2\, Lorch\, Bay
 ern\, 73547\, Deutschland;X-APPLE-RADIUS=100;X-TITLE=Kloster Lorch:geo:48.
 799426,9.7049
END:VEVENT
BEGIN:VTIMEZONE
TZID:Europe/Berlin
X-LIC-LOCATION:Europe/Berlin
BEGIN:STANDARD
DTSTART:20241027T020000
TZOFFSETFROM:+0200
TZOFFSETTO:+0100
TZNAME:CET
END:STANDARD
BEGIN:DAYLIGHT
DTSTART:20250330T030000
TZOFFSETFROM:+0100
TZOFFSETTO:+0200
TZNAME:CEST
END:DAYLIGHT
END:VTIMEZONE
END:VCALENDAR