BEGIN:VCALENDAR
VERSION:2.0
PRODID:-//wp-events-plugin.com//7.2.3.1//EN
TZID:Europe/Berlin
X-WR-TIMEZONE:Europe/Berlin
BEGIN:VEVENT
UID:578@gaertnerei-heider.de
DTSTART;TZID=Europe/Berlin:20250411T100000
DTEND;TZID=Europe/Berlin:20250413T180000
DTSTAMP:20250227T085557Z
URL:https://www.gaertnerei-heider.de/events/gartenlust-duerrenmungenau/
SUMMARY:GartenLust Dürrenmungenau
DESCRIPTION:D-Schloss Dürrenmungenau - Gartenlust
CATEGORIES:Allgemein
LOCATION:Schloss Dürrenmungenau\, Schlossallee 1\, Abenberg\, 91183\, Deut
 schland
GEO:52.581082;13.420142
X-APPLE-STRUCTURED-LOCATION;VALUE=URI;X-ADDRESS=Schlossallee 1\, Abenberg\,
  91183\, Deutschland;X-APPLE-RADIUS=100;X-TITLE=Schloss Dürrenmungenau:ge
 o:52.581082,13.420142
END:VEVENT
BEGIN:VTIMEZONE
TZID:Europe/Berlin
X-LIC-LOCATION:Europe/Berlin
BEGIN:DAYLIGHT
DTSTART:20250330T030000
TZOFFSETFROM:+0100
TZOFFSETTO:+0200
TZNAME:CEST
END:DAYLIGHT
END:VTIMEZONE
END:VCALENDAR