BEGIN:VCALENDAR
VERSION:2.0
PRODID:-//wp-events-plugin.com//7.2.3.1//EN
TZID:Europe/Berlin
X-WR-TIMEZONE:Europe/Berlin
BEGIN:VEVENT
UID:125@gaertnerei-heider.de
DTSTART;TZID=Europe/Berlin:20200417T100000
DTEND;TZID=Europe/Berlin:20200419T180000
DTSTAMP:20200319T080846Z
URL:https://www.gaertnerei-heider.de/events/gartenfestival-schloss-schleis
 sheim/
SUMMARY:ENTFÄLLT - Gartenfestival Schloss Schleißheim - ENTFÄLLT
DESCRIPTION:https://www.gartenlust.eu/Veranstaltungen/gartenfestival-schlos
 s-schleissheim-oberschleissheim-2020/\n\n&nbsp\;
CATEGORIES:Allgemein
LOCATION:Gartenfestival Schloss Schleißheim\, Max-Emanuel-Platz\, Oberschl
 eißheim\, Bayern\, 85764\, Deutschland
GEO:48.249176;11.560716
X-APPLE-STRUCTURED-LOCATION;VALUE=URI;X-ADDRESS=Max-Emanuel-Platz\, Obersch
 leißheim\, Bayern\, 85764\, Deutschland;X-APPLE-RADIUS=100;X-TITLE=Garten
 festival Schloss Schleißheim:geo:48.249176,11.560716
END:VEVENT
BEGIN:VTIMEZONE
TZID:Europe/Berlin
X-LIC-LOCATION:Europe/Berlin
BEGIN:DAYLIGHT
DTSTART:20200329T030000
TZOFFSETFROM:+0100
TZOFFSETTO:+0200
TZNAME:CEST
END:DAYLIGHT
END:VTIMEZONE
END:VCALENDAR