BEGIN:VCALENDAR
VERSION:2.0
PRODID:-//wp-events-plugin.com//7.2.3.1//EN
TZID:Europe/Berlin
X-WR-TIMEZONE:Europe/Berlin
BEGIN:VEVENT
UID:128@gaertnerei-heider.de
DTSTART;TZID=Europe/Berlin:20200523T090000
DTEND;TZID=Europe/Berlin:20200524T180000
DTSTAMP:20200423T091844Z
URL:https://www.gaertnerei-heider.de/events/fuchsien-kraeuter-markt-wemdin
 g/
SUMMARY:ENTFÄLLT - Fuchsien & Kräuter Markt Wemding - ENTFÄLLT
DESCRIPTION:http://www.fuchsienmarkt-wemding.de/\n\n&nbsp\;
CATEGORIES:Allgemein
LOCATION:Fuchsien & Kräutermarkt Wemding\, Altstadt\, Wemding\, 86650\, De
 utschland
GEO:48.874576;10.724063
X-APPLE-STRUCTURED-LOCATION;VALUE=URI;X-ADDRESS=Altstadt\, Wemding\, 86650\
 , Deutschland;X-APPLE-RADIUS=100;X-TITLE=Fuchsien & Kräutermarkt Wemding:
 geo:48.874576,10.724063
END:VEVENT
BEGIN:VTIMEZONE
TZID:Europe/Berlin
X-LIC-LOCATION:Europe/Berlin
BEGIN:DAYLIGHT
DTSTART:20200329T030000
TZOFFSETFROM:+0100
TZOFFSETTO:+0200
TZNAME:CEST
END:DAYLIGHT
END:VTIMEZONE
END:VCALENDAR