BEGIN:VCALENDAR
VERSION:2.0
PRODID:-//wp-events-plugin.com//7.2.3.1//EN
TZID:Europe/Berlin
X-WR-TIMEZONE:Europe/Berlin
BEGIN:VEVENT
UID:580@gaertnerei-heider.de
DTSTART;TZID=Europe/Berlin:20250501T100000
DTEND;TZID=Europe/Berlin:20250504T180000
DTSTAMP:20250227T085926Z
URL:https://www.gaertnerei-heider.de/events/fruehlingsmarkt-sandizell-2/
SUMMARY:Frühlingsmarkt Sandizell
DESCRIPTION:Fruehlingsmarkt Sandizell
CATEGORIES:Allgemein
LOCATION:Frühlingsmarkt Wasserschloss Sandizell\, Schlossstr. 4\, Schroben
 hausen\, Bayern\, 86529\, Deutschland
GEO:48.583152;11.175439
X-APPLE-STRUCTURED-LOCATION;VALUE=URI;X-ADDRESS=Schlossstr. 4\, Schrobenhau
 sen\, Bayern\, 86529\, Deutschland;X-APPLE-RADIUS=100;X-TITLE=Frühlingsma
 rkt Wasserschloss Sandizell:geo:48.583152,11.175439
END:VEVENT
BEGIN:VTIMEZONE
TZID:Europe/Berlin
X-LIC-LOCATION:Europe/Berlin
BEGIN:DAYLIGHT
DTSTART:20250330T030000
TZOFFSETFROM:+0100
TZOFFSETTO:+0200
TZNAME:CEST
END:DAYLIGHT
END:VTIMEZONE
END:VCALENDAR