BEGIN:VCALENDAR
VERSION:2.0
PRODID:-//wp-events-plugin.com//7.2.3.1//EN
TZID:Europe/Berlin
X-WR-TIMEZONE:Europe/Berlin
BEGIN:VEVENT
UID:122@gaertnerei-heider.de
DTSTART;TZID=Europe/Berlin:20200322T090000
DTEND;TZID=Europe/Berlin:20200322T170000
DTSTAMP:20200317T102211Z
URL:https://www.gaertnerei-heider.de/events/fastenmarkt-mering/
SUMMARY:ENTFÄLLT - Fastenmarkt Mering - ENTFÄLLT
DESCRIPTION:https://www.mering-aktuell.de/aktuelles/veranstaltungskalender/
 24-fastenmarkt\n\n&nbsp\;
CATEGORIES:Allgemein
LOCATION:Fastenmarkt Mering\, Marktplatz\, Mering\, Bayern\, 86415\, Deutsc
 hland
GEO:48.267824;10.986722
X-APPLE-STRUCTURED-LOCATION;VALUE=URI;X-ADDRESS=Marktplatz\, Mering\, Bayer
 n\, 86415\, Deutschland;X-APPLE-RADIUS=100;X-TITLE=Fastenmarkt Mering:geo:
 48.267824,10.986722
END:VEVENT
BEGIN:VTIMEZONE
TZID:Europe/Berlin
X-LIC-LOCATION:Europe/Berlin
BEGIN:STANDARD
DTSTART:20191027T020000
TZOFFSETFROM:+0200
TZOFFSETTO:+0100
TZNAME:CET
END:STANDARD
END:VTIMEZONE
END:VCALENDAR