BEGIN:VCALENDAR
VERSION:2.0
PRODID:-//wp-events-plugin.com//7.2.3.1//EN
TZID:Europe/Berlin
X-WR-TIMEZONE:Europe/Berlin
BEGIN:VEVENT
UID:581@gaertnerei-heider.de
DTSTART;TZID=Europe/Berlin:20250509T100000
DTEND;TZID=Europe/Berlin:20250511T180000
DTSTAMP:20250227T090122Z
URL:https://www.gaertnerei-heider.de/events/bluetenzauber-kaltenberger-gar
 tentage/
SUMMARY:Blütenzauber - Kaltenberger Gartentage
DESCRIPTION:Gartentage Schloss Kaltenberg
CATEGORIES:Allgemein
LOCATION:Blütenzauber Schloss Kaltenberg\, Schloss-Straße\, Kaltenberg\, 
 Bayern\, 82269\, Deutschland
GEO:48.130907;10.991742
X-APPLE-STRUCTURED-LOCATION;VALUE=URI;X-ADDRESS=Schloss-Straße\, Kaltenber
 g\, Bayern\, 82269\, Deutschland;X-APPLE-RADIUS=100;X-TITLE=Blütenzauber 
 Schloss Kaltenberg:geo:48.130907,10.991742
END:VEVENT
BEGIN:VTIMEZONE
TZID:Europe/Berlin
X-LIC-LOCATION:Europe/Berlin
BEGIN:DAYLIGHT
DTSTART:20250330T030000
TZOFFSETFROM:+0100
TZOFFSETTO:+0200
TZNAME:CEST
END:DAYLIGHT
END:VTIMEZONE
END:VCALENDAR