BEGIN:VCALENDAR
VERSION:2.0
PRODID:-//wp-events-plugin.com//7.2.3.1//EN
TZID:Europe/Berlin
X-WR-TIMEZONE:Europe/Berlin
BEGIN:VEVENT
UID:566@gaertnerei-heider.de
DTSTART;TZID=Europe/Berlin:20230930T100000
DTEND;TZID=Europe/Berlin:20231003T180000
DTSTAMP:20230928T104025Z
URL:https://www.gaertnerei-heider.de/events/15-goldener-herbstmarkt-schern
 eck/
SUMMARY:15. Goldener Herbstmarkt Scherneck
DESCRIPTION:Herbstmarkt Schloss Scherneck (garten-schloss-scherneck.de)
CATEGORIES:Allgemein
LOCATION:15. Goldener Herbstmarkt\, Scherneck 1\, Rehling\, Bayern\, 86508\
 , Deutschland
GEO:48.479097;10.928922
X-APPLE-STRUCTURED-LOCATION;VALUE=URI;X-ADDRESS=Scherneck 1\, Rehling\, Bay
 ern\, 86508\, Deutschland;X-APPLE-RADIUS=100;X-TITLE=15. Goldener Herbstma
 rkt:geo:48.479097,10.928922
END:VEVENT
BEGIN:VTIMEZONE
TZID:Europe/Berlin
X-LIC-LOCATION:Europe/Berlin
BEGIN:DAYLIGHT
DTSTART:20230326T030000
TZOFFSETFROM:+0100
TZOFFSETTO:+0200
TZNAME:CEST
END:DAYLIGHT
END:VTIMEZONE
END:VCALENDAR