BEGIN:VCALENDAR
VERSION:2.0
PRODID:-//wp-events-plugin.com//7.2.3.1//EN
TZID:Europe/Berlin
X-WR-TIMEZONE:Europe/Berlin
BEGIN:VEVENT
UID:545@gaertnerei-heider.de
DTSTART;TZID=Europe/Berlin:20221001T100000
DTEND;TZID=Europe/Berlin:20221003T180000
DTSTAMP:20220927T091144Z
URL:https://www.gaertnerei-heider.de/events/14-goldener-herbstmarkt-auf-sc
 hloss-scherneck/
SUMMARY:14. Goldener Herbstmarkt auf Schloss Scherneck
DESCRIPTION:www.garten-schloss-scherneck.de
CATEGORIES:Allgemein
LOCATION:Schloss Scherneck\, Scherneck 1a\, Rehling\, Bayern\, 86508\, Deut
 schland
GEO:48.4795;10.92876
X-APPLE-STRUCTURED-LOCATION;VALUE=URI;X-ADDRESS=Scherneck 1a\, Rehling\, Ba
 yern\, 86508\, Deutschland;X-APPLE-RADIUS=100;X-TITLE=Schloss Scherneck:ge
 o:48.4795,10.92876
END:VEVENT
BEGIN:VTIMEZONE
TZID:Europe/Berlin
X-LIC-LOCATION:Europe/Berlin
BEGIN:DAYLIGHT
DTSTART:20220327T030000
TZOFFSETFROM:+0100
TZOFFSETTO:+0200
TZNAME:CEST
END:DAYLIGHT
END:VTIMEZONE
END:VCALENDAR