BEGIN:VCALENDAR
VERSION:2.0
PRODID:-//wp-events-plugin.com//7.2.3.1//EN
TZID:Europe/Berlin
X-WR-TIMEZONE:Europe/Berlin
BEGIN:VEVENT
UID:542@gaertnerei-heider.de
DTSTART;TZID=Europe/Berlin:20220911T100000
DTEND;TZID=Europe/Berlin:20220911T170000
DTSTAMP:20220901T093024Z
URL:https://www.gaertnerei-heider.de/events/13-herbstmarkt-ingenried/
SUMMARY:13. Herbstmarkt Ingenried
DESCRIPTION:Veranstaltungen | Gemeinde Pforzen
CATEGORIES:Allgemein
LOCATION:Herbstmarkt Ingenried\, Altholzweg\, Ingenried\, Bayern\, 87666\, 
 Deutschland
GEO:47.9486742;10.596808399999986
X-APPLE-STRUCTURED-LOCATION;VALUE=URI;X-ADDRESS=Altholzweg\, Ingenried\, Ba
 yern\, 87666\, Deutschland;X-APPLE-RADIUS=100;X-TITLE=Herbstmarkt Ingenrie
 d:geo:47.9486742,10.596808399999986
END:VEVENT
BEGIN:VTIMEZONE
TZID:Europe/Berlin
X-LIC-LOCATION:Europe/Berlin
BEGIN:DAYLIGHT
DTSTART:20220327T030000
TZOFFSETFROM:+0100
TZOFFSETTO:+0200
TZNAME:CEST
END:DAYLIGHT
END:VTIMEZONE
END:VCALENDAR