BEGIN:VCALENDAR
VERSION:2.0
PRODID:-//wp-events-plugin.com//7.2.3.1//EN
TZID:Europe/Berlin
X-WR-TIMEZONE:Europe/Berlin
BEGIN:VEVENT
UID:537@gaertnerei-heider.de
DTSTART;TZID=Europe/Berlin;VALUE=DATE:20220506
DTEND;TZID=Europe/Berlin;VALUE=DATE:20220509
DTSTAMP:20220224T121747Z
URL:https://www.gaertnerei-heider.de/events/10-gartentage-schloss-kaltenbe
 rg-jubilaeumsjahr/
SUMMARY:10. Gartentage Schloss Kaltenberg - Jubiläumsjahr
DESCRIPTION:Jubiläumsjahr - 10. Gartentage Schloss Kaltenberg\n\nwww.garte
 ntage-schloss-kaltenberg.de\n\n&nbsp\;
LOCATION:Schloss Kaltenberg Gartentage\, Schlossstr.\, Kaltenberg\, Bayern\
 , 82269\, Deutschland
GEO:48.130907;10.991742
X-APPLE-STRUCTURED-LOCATION;VALUE=URI;X-ADDRESS=Schlossstr.\, Kaltenberg\, 
 Bayern\, 82269\, Deutschland;X-APPLE-RADIUS=100;X-TITLE=Schloss Kaltenberg
  Gartentage:geo:48.130907,10.991742
END:VEVENT
BEGIN:VTIMEZONE
TZID:Europe/Berlin
X-LIC-LOCATION:Europe/Berlin
BEGIN:DAYLIGHT
DTSTART:20220327T030000
TZOFFSETFROM:+0100
TZOFFSETTO:+0200
TZNAME:CEST
END:DAYLIGHT
END:VTIMEZONE
END:VCALENDAR