BEGIN:VCALENDAR
VERSION:2.0
PRODID:-//wp-events-plugin.com//7.2.3.1//EN
TZID:Europe/Berlin
X-WR-TIMEZONE:Europe/Berlin
BEGIN:VEVENT
UID:127@gaertnerei-heider.de
DTSTART;TZID=Europe/Berlin;VALUE=DATE:20200508
DTEND;TZID=Europe/Berlin;VALUE=DATE:20200511
DTSTAMP:20200324T081752Z
URL:https://www.gaertnerei-heider.de/events/10-gartentage-schloss-kaltenbe
 rg-bluetenzauber-jubilaeums-jahr/
SUMMARY:ENTFÄLLT  -  10. Gartentage Schloss Kaltenberg - Blütenzauber - J
 ubiläums-Jahr  -  ENTFÄLLT
DESCRIPTION:https://www.gartentage-schloss-kaltenberg.de/\n\n&nbsp\;
CATEGORIES:Allgemein
LOCATION:Gartentage Schloss Kaltenberg - Blütenzauber\, Schlossstr.\, Kalt
 enberg\, Bayern\, 82269\, Deutschland
GEO:48.130907;10.991742
X-APPLE-STRUCTURED-LOCATION;VALUE=URI;X-ADDRESS=Schlossstr.\, Kaltenberg\, 
 Bayern\, 82269\, Deutschland;X-APPLE-RADIUS=100;X-TITLE=Gartentage Schloss
  Kaltenberg - Blütenzauber:geo:48.130907,10.991742
END:VEVENT
BEGIN:VTIMEZONE
TZID:Europe/Berlin
X-LIC-LOCATION:Europe/Berlin
BEGIN:DAYLIGHT
DTSTART:20200329T030000
TZOFFSETFROM:+0100
TZOFFSETTO:+0200
TZNAME:CEST
END:DAYLIGHT
END:VTIMEZONE
END:VCALENDAR